BEGIN:VCALENDAR
VERSION:2.0
PRODID:-//3nity.com//3nity CMS//EN
BEGIN:VEVENT
SUMMARY:Prophetic Night
UID:2026-07-18-1217584@jesushealingministry.life
SEQUENCE:0
STATUS:CONFIRMED
DTSTART:20260515T223000
DTEND:20260516T003000
DTSTAMP:20161222T120000
DESCRIPTION:Friday Prophetic Night service is a sacred gathering where the prophetic voice of God is prioritized, and the Holy Spirit moves in power for healing, deliverance, and divine alignment. Come expecting prophetic insight, spiritual activation, and a fresh encounter that breaks cycles and repositions your life according to God's will.
URL:http://jesushealingministry.life
END:VEVENT
END:VCALENDAR
